BEGIN:VCALENDAR
VERSION:2.0
CALSCALE:GREGORIAN
PRODID:-//Diputació de Barcelona//DibaCMS//EN
BEGIN:VEVENT
UID:2542
DTSTAMP:20260423T181647
DTSTART:20211226T000000
DTEND:20211226T000000
SUMMARY:Arribada del Patge Faruk
LOCATION:Passeig Anselm Clavé, 21 08262 Callús
METHOD:PUBLISH
X-WR-CALNAME:callus@callus.cat
X-WR-TIMEZONE:Europe/Madrid
DESCRIPTION:
URI:https://www.callus.cat/actualitat/agenda/arribada-del-patge-faruk.html
CLASS:PUBLIC
END:VEVENT
END:VCALENDAR
