BEGIN:VCALENDAR
VERSION:2.0
CALSCALE:GREGORIAN
PRODID:-//Diputació de Barcelona//DibaCMS//EN
BEGIN:VEVENT
UID:2763
DTSTAMP:20260424T025436
DTSTART:20231221T190000
DTEND:20231221T190000
SUMMARY:Concert de Nadal
LOCATION:Passeig Anselm Clavé, 21 08262 Callús
METHOD:PUBLISH
X-WR-CALNAME:callus@callus.cat
X-WR-TIMEZONE:Europe/Madrid
DESCRIPTION:
URI:https://www.callus.cat/actualitat/agenda/concert-de-nadal.html
CLASS:PUBLIC
END:VEVENT
END:VCALENDAR
